BEGIN:VCALENDAR
VERSION:2.0
PRODID:icalendar-ruby
CALSCALE:GREGORIAN
METHOD:PUBLISH
BEGIN:VEVENT
DTSTAMP:20260421T114221Z
UID:13-2644942@fbcbeeville.com
DTSTART:20260503T143000Z
DTEND:20260503T153000Z
CLASS:PUBLIC
CREATED:20260421T062834
DESCRIPTION:Children and Youth Choir
LAST-MODIFIED:20260421T062834
LOCATION:Choir Room
SUMMARY:Children and Youth Choir 
URL;VALUE=URI:https://www.fbcbeeville.com/events/children-and-youth-choir/2
 026-05-03
ATTACH;FILENAME=ETXX.jpg;FMTTYPE=image/jpeg:https://dq5pwpg1q8ru0.cloudfron
 t.net/2022/08/18/12/45/19/4db0ecde-7af7-4d1b-b935-e252ed7d1791/ETXX.jpg
END:VEVENT
END:VCALENDAR
