BEGIN:VCALENDAR
VERSION:2.0
PRODID:icalendar-ruby
CALSCALE:GREGORIAN
METHOD:PUBLISH
BEGIN:VEVENT
DTSTAMP:20260423T161532Z
UID:95-2669753@fbcbeeville.com
DTSTART:20261020T003000Z
DTEND:20261020T020000Z
CLASS:PUBLIC
CREATED:20260423T093301
DESCRIPTION:
LAST-MODIFIED:20260423T093301
LOCATION:FBC Gym
SUMMARY:Open Gym - Pickleball
URL;VALUE=URI:https://www.fbcbeeville.com/events/open-gym-pickleball/2026-1
 0-19
ATTACH;FILENAME=pickleball.jfif;FMTTYPE=image/jpeg:https://dq5pwpg1q8ru0.cl
 oudfront.net/2024/07/09/14/38/42/1a8eb72a-eef1-46ff-b5a2-28ce5ac1fce4/pick
 leball.jfif
END:VEVENT
END:VCALENDAR
