BEGIN:VCALENDAR
VERSION:2.0
PRODID:icalendar-ruby
CALSCALE:GREGORIAN
METHOD:PUBLISH
BEGIN:VEVENT
DTSTAMP:20260422T132605Z
UID:108-2648096@fbcbeeville.com
DTSTART:20260531T230000Z
DTEND:20260604T230000Z
CLASS:PUBLIC
CREATED:20260421T114209
DESCRIPTION:
LAST-MODIFIED:20260421T114209
LOCATION:
SUMMARY:Vacation Bible School
URL;VALUE=URI:https://www.fbcbeeville.com/events/vacation-bible-school--108
 /2026-05-31
ATTACH;FILENAME=VBS Announcement Update (1).jpg;FMTTYPE=image/jpeg:https://
 dq5pwpg1q8ru0.cloudfront.net/2026/04/21/16/42/08/f563214a-4a96-44a4-9ff0-f
 87a4d06efdf/VBS%20Announcement%20Update%20(1).jpg
END:VEVENT
END:VCALENDAR
